BEGIN:VCALENDAR
VERSION:2.0
PRODID:-// - ECPv6.15.20//NONSGML v1.0//EN
CALSCALE:GREGORIAN
METHOD:PUBLISH
X-ORIGINAL-URL:https://www.matchpickle.com
X-WR-CALDESC:Events for 
REFRESH-INTERVAL;VALUE=DURATION:PT1H
X-Robots-Tag:noindex
X-PUBLISHED-TTL:PT1H
BEGIN:VTIMEZONE
TZID:America/Los_Angeles
BEGIN:DAYLIGHT
TZOFFSETFROM:-0800
TZOFFSETTO:-0700
TZNAME:PDT
DTSTART:20250309T100000
END:DAYLIGHT
BEGIN:STANDARD
TZOFFSETFROM:-0700
TZOFFSETTO:-0800
TZNAME:PST
DTSTART:20251102T090000
END:STANDARD
BEGIN:DAYLIGHT
TZOFFSETFROM:-0800
TZOFFSETTO:-0700
TZNAME:PDT
DTSTART:20260308T100000
END:DAYLIGHT
BEGIN:STANDARD
TZOFFSETFROM:-0700
TZOFFSETTO:-0800
TZNAME:PST
DTSTART:20261101T090000
END:STANDARD
BEGIN:DAYLIGHT
TZOFFSETFROM:-0800
TZOFFSETTO:-0700
TZNAME:PDT
DTSTART:20270314T100000
END:DAYLIGHT
BEGIN:STANDARD
TZOFFSETFROM:-0700
TZOFFSETTO:-0800
TZNAME:PST
DTSTART:20271107T090000
END:STANDARD
END:VTIMEZONE
BEGIN:VEVENT
DTSTART;TZID=America/Los_Angeles:20260306T000000
DTEND;TZID=America/Los_Angeles:20260308T235959
DTSTAMP:20260422T045805
CREATED:20250929T221550Z
LAST-MODIFIED:20250929T221550Z
UID:132-1772755200-1773014399@www.matchpickle.com
SUMMARY:APP Selkirk U.S. Collegiate Championships
DESCRIPTION:
URL:https://www.matchpickle.com/pickleballcal/app-selkirk-u-s-collegiate-championships/
LOCATION:The Courts\, 420 SW 2nd Ave\, Cape Coral\, Florida\, 33991
ATTACH;FMTTYPE=image/jpeg:https://www.matchpickle.com/wp-content/uploads/2025/09/IMG_7400.jpg
END:VEVENT
END:VCALENDAR